BEGIN:VCALENDAR
VERSION:2.0
PRODID:-//Quad City Federation of Labor - ECPv6.15.11//NONSGML v1.0//EN
CALSCALE:GREGORIAN
METHOD:PUBLISH
X-WR-CALNAME:Quad City Federation of Labor
X-ORIGINAL-URL:https://www.quadcityfed.com
X-WR-CALDESC:Events for Quad City Federation of Labor
REFRESH-INTERVAL;VALUE=DURATION:PT1H
X-Robots-Tag:noindex
X-PUBLISHED-TTL:PT1H
BEGIN:VTIMEZONE
TZID:America/New_York
BEGIN:DAYLIGHT
TZOFFSETFROM:-0500
TZOFFSETTO:-0400
TZNAME:EDT
DTSTART:20250309T070000
END:DAYLIGHT
BEGIN:STANDARD
TZOFFSETFROM:-0400
TZOFFSETTO:-0500
TZNAME:EST
DTSTART:20251102T060000
END:STANDARD
BEGIN:DAYLIGHT
TZOFFSETFROM:-0500
TZOFFSETTO:-0400
TZNAME:EDT
DTSTART:20260308T070000
END:DAYLIGHT
BEGIN:STANDARD
TZOFFSETFROM:-0400
TZOFFSETTO:-0500
TZNAME:EST
DTSTART:20261101T060000
END:STANDARD
BEGIN:DAYLIGHT
TZOFFSETFROM:-0500
TZOFFSETTO:-0400
TZNAME:EDT
DTSTART:20270314T070000
END:DAYLIGHT
BEGIN:STANDARD
TZOFFSETFROM:-0400
TZOFFSETTO:-0500
TZNAME:EST
DTSTART:20271107T060000
END:STANDARD
END:VTIMEZONE
BEGIN:VEVENT
DTSTART;TZID=America/New_York:20260813T100000
DTEND;TZID=America/New_York:20260813T110000
DTSTAMP:20260421T163302
CREATED:20260227T143528Z
LAST-MODIFIED:20260227T143528Z
UID:922-1786615200-1786618800@www.quadcityfed.com
SUMMARY:QC ALLIANCE FOR RETIRED AMERICANS MTG.
DESCRIPTION:Quad Cities Alliance for Retired Americans Mtg.  |\n10am (2nd Thursday each month)  |\nAugust  13th @ Laborers 309 Hall\, Rock Island
URL:https://www.quadcityfed.com/event/qc-alliance-for-retired-americans-mtg-5/
END:VEVENT
END:VCALENDAR