BEGIN:VCALENDAR
VERSION:2.0
PRODID:-//Quad City Federation of Labor - ECPv6.15.11//NONSGML v1.0//EN
CALSCALE:GREGORIAN
METHOD:PUBLISH
X-ORIGINAL-URL:https://www.quadcityfed.com
X-WR-CALDESC:Events for Quad City Federation of Labor
REFRESH-INTERVAL;VALUE=DURATION:PT1H
X-Robots-Tag:noindex
X-PUBLISHED-TTL:PT1H
BEGIN:VTIMEZONE
TZID:America/New_York
BEGIN:DAYLIGHT
TZOFFSETFROM:-0500
TZOFFSETTO:-0400
TZNAME:EDT
DTSTART:20220313T070000
END:DAYLIGHT
BEGIN:STANDARD
TZOFFSETFROM:-0400
TZOFFSETTO:-0500
TZNAME:EST
DTSTART:20221106T060000
END:STANDARD
BEGIN:DAYLIGHT
TZOFFSETFROM:-0500
TZOFFSETTO:-0400
TZNAME:EDT
DTSTART:20230312T070000
END:DAYLIGHT
BEGIN:STANDARD
TZOFFSETFROM:-0400
TZOFFSETTO:-0500
TZNAME:EST
DTSTART:20231105T060000
END:STANDARD
BEGIN:DAYLIGHT
TZOFFSETFROM:-0500
TZOFFSETTO:-0400
TZNAME:EDT
DTSTART:20240310T070000
END:DAYLIGHT
BEGIN:STANDARD
TZOFFSETFROM:-0400
TZOFFSETTO:-0500
TZNAME:EST
DTSTART:20241103T060000
END:STANDARD
END:VTIMEZONE
BEGIN:VEVENT
DTSTART;TZID=America/New_York:20231001T140000
DTEND;TZID=America/New_York:20231001T170000
DTSTAMP:20260421T074712
CREATED:20230522T170058Z
LAST-MODIFIED:20230522T170241Z
UID:432-1696168800-1696179600@www.quadcityfed.com
SUMMARY:SOLES FOR CHILDREN FUNDRAISER
DESCRIPTION:Soles For Children Fundraiser\nOctober 1st from 2pm-5pm\nITEMS NEEDED:  shoes\, coats hats & mittens (new or barely used)\nMartin Luther King Jr. Center\, RI\nCONTACT: Erwin King\nerwinking51@gmail.com\n309-292-3210
URL:https://www.quadcityfed.com/event/soles-for-children-fundraiser/
END:VEVENT
BEGIN:VEVENT
DTSTART;TZID=America/New_York:20231007T180000
DTEND;TZID=America/New_York:20231007T203000
DTSTAMP:20260421T074712
CREATED:20230327T173136Z
LAST-MODIFIED:20230327T173255Z
UID:347-1696701600-1696710600@www.quadcityfed.com
SUMMARY:Hall of Fame Banquet
DESCRIPTION:Hall of Fame Banquet at Isle Casino & Hotel \nBettendorf\, IA \n\nCocktails – 6 pm\nDinner – 7 pm\nAward Presentations – 7:45 pm\n\nInductee Nomination Form
URL:https://www.quadcityfed.com/event/hall-of-fame-banquet/
END:VEVENT
BEGIN:VEVENT
DTSTART;TZID=America/New_York:20231014T090000
DTEND;TZID=America/New_York:20231014T150000
DTSTAMP:20260421T074712
CREATED:20230327T172838Z
LAST-MODIFIED:20230419T142027Z
UID:343-1697274000-1697295600@www.quadcityfed.com
SUMMARY:Young Workers Leadership Conference
DESCRIPTION:October 14th – LABOR CENTER: YOUNG WORKERS’ LEADERSHIP CONFERENCE\n9am – 3pm @ UAW Hall\, East Moline
URL:https://www.quadcityfed.com/event/young-workers-leadership-conference/
END:VEVENT
END:VCALENDAR