BEGIN:VCALENDAR
VERSION:2.0
PRODID:-//Quad City Federation of Labor - ECPv6.15.11//NONSGML v1.0//EN
CALSCALE:GREGORIAN
METHOD:PUBLISH
X-WR-CALNAME:Quad City Federation of Labor
X-ORIGINAL-URL:https://www.quadcityfed.com
X-WR-CALDESC:Events for Quad City Federation of Labor
REFRESH-INTERVAL;VALUE=DURATION:PT1H
X-Robots-Tag:noindex
X-PUBLISHED-TTL:PT1H
BEGIN:VTIMEZONE
TZID:America/New_York
BEGIN:DAYLIGHT
TZOFFSETFROM:-0500
TZOFFSETTO:-0400
TZNAME:EDT
DTSTART:20250309T070000
END:DAYLIGHT
BEGIN:STANDARD
TZOFFSETFROM:-0400
TZOFFSETTO:-0500
TZNAME:EST
DTSTART:20251102T060000
END:STANDARD
BEGIN:DAYLIGHT
TZOFFSETFROM:-0500
TZOFFSETTO:-0400
TZNAME:EDT
DTSTART:20260308T070000
END:DAYLIGHT
BEGIN:STANDARD
TZOFFSETFROM:-0400
TZOFFSETTO:-0500
TZNAME:EST
DTSTART:20261101T060000
END:STANDARD
BEGIN:DAYLIGHT
TZOFFSETFROM:-0500
TZOFFSETTO:-0400
TZNAME:EDT
DTSTART:20270314T070000
END:DAYLIGHT
BEGIN:STANDARD
TZOFFSETFROM:-0400
TZOFFSETTO:-0500
TZNAME:EST
DTSTART:20271107T060000
END:STANDARD
END:VTIMEZONE
BEGIN:VEVENT
DTSTART;TZID=America/New_York:20260202T190000
DTEND;TZID=America/New_York:20260202T200000
DTSTAMP:20260421T090110
CREATED:20260227T152753Z
LAST-MODIFIED:20260227T152753Z
UID:980-1770058800-1770062400@www.quadcityfed.com
SUMMARY:MOLINE DEMOCRATS MEETING
DESCRIPTION:MOLINE DEMOCRATS MEETING  |\n7pm  |\nEast End Bolders Club\, 4th Ave.\, Moline
URL:https://www.quadcityfed.com/event/moline-democrats-meeting/
END:VEVENT
BEGIN:VEVENT
DTSTART;TZID=America/New_York:20260204T173000
DTEND;TZID=America/New_York:20260204T183000
DTSTAMP:20260421T090110
CREATED:20260227T154040Z
LAST-MODIFIED:20260227T154040Z
UID:1002-1770226200-1770229800@www.quadcityfed.com
SUMMARY:QC NEXTUP MEETING
DESCRIPTION:QC NEXT UP MEETING  |\n5:30pm  |\nUSW Hall\, 880 Devils Glen RD.\, Bettendorf
URL:https://www.quadcityfed.com/event/qc-nextup-meeting/
END:VEVENT
BEGIN:VEVENT
DTSTART;TZID=America/New_York:20260212T100000
DTEND;TZID=America/New_York:20260212T230000
DTSTAMP:20260421T090110
CREATED:20260227T145729Z
LAST-MODIFIED:20260227T145729Z
UID:956-1770890400-1770937200@www.quadcityfed.com
SUMMARY:QC ALLIANCE FOR RETIRED AMERICANS MTG.
DESCRIPTION:Quad Cities Alliance for Retired Americans Mtg.  |\n10am (2nd Thursday each month)  |\nMarch 12th @ Laborers 309 Hall\, Rock Island
URL:https://www.quadcityfed.com/event/qc-alliance-for-retired-americans-mtg-10/
END:VEVENT
BEGIN:VEVENT
DTSTART;TZID=America/New_York:20260218T173000
DTEND;TZID=America/New_York:20260218T183000
DTSTAMP:20260421T090110
CREATED:20260227T145539Z
LAST-MODIFIED:20260227T145613Z
UID:954-1771435800-1771439400@www.quadcityfed.com
SUMMARY:RI CTY DEMOCRATIC WOMEN'S CLUB MTG.
DESCRIPTION:RI COUNTY DEMOCRATIC WOMEN’S CLUB MTG.  |\n3rd Wednesday every month  |\n5:30pm  |\nEast End Bolders Club\, 4th Ave.\, Moline IL
URL:https://www.quadcityfed.com/event/ri-cty-democratic-womens-club-mtg-11/
END:VEVENT
BEGIN:VEVENT
DTSTART;TZID=America/New_York:20260223T080000
DTEND;TZID=America/New_York:20260224T163000
DTSTAMP:20260421T090110
CREATED:20260226T162221Z
LAST-MODIFIED:20260226T162221Z
UID:903-1771833600-1771950600@www.quadcityfed.com
SUMMARY:IA LEGISLATIVE CONFERENCE
DESCRIPTION:IA LEGISLATIVE CONFERENCE  |\nFebruary 23rd & 24th  |\n8:30am – 4:30pm (each day)  |\nPrairie Meadows Casino\, Racetrack\, & Hotel  |\n1 Prairie Meadows Drive\, Altoona IA  |
URL:https://www.quadcityfed.com/event/ia-legislative-conference/
END:VEVENT
BEGIN:VEVENT
DTSTART;TZID=America/New_York:20260226T180000
DTEND;TZID=America/New_York:20260226T190000
DTSTAMP:20260421T090110
CREATED:20260227T151251Z
LAST-MODIFIED:20260227T151251Z
UID:958-1772128800-1772132400@www.quadcityfed.com
SUMMARY:EAST MOLINE DEMOCRATS MEETING
DESCRIPTION:EAST MOLINE DEMOCRATS MEETING  |\n6pm  |\nVFW Hall on 1st Street in East Moline
URL:https://www.quadcityfed.com/event/east-moline-democrats-meeting/
END:VEVENT
BEGIN:VEVENT
DTSTART;TZID=America/New_York:20260228T133000
DTEND;TZID=America/New_York:20260228T153000
DTSTAMP:20260421T090110
CREATED:20260226T161305Z
LAST-MODIFIED:20260226T161305Z
UID:899-1772285400-1772292600@www.quadcityfed.com
SUMMARY:CANVASS FOR CHRISTINA BOHANNAN
DESCRIPTION:CANVASSING FOR CHRISTINA BOHANNAN  |\nSaturday\, February 28th  |\n1:30pm  |  1200 Springbrook Lane\, DeWitt IA
URL:https://www.quadcityfed.com/event/canvass-for-christina-bohannan/
END:VEVENT
END:VCALENDAR