BEGIN:VCALENDAR
VERSION:2.0
PRODID:-//Quad City Federation of Labor - ECPv6.15.11//NONSGML v1.0//EN
CALSCALE:GREGORIAN
METHOD:PUBLISH
X-ORIGINAL-URL:https://www.quadcityfed.com
X-WR-CALDESC:Events for Quad City Federation of Labor
REFRESH-INTERVAL;VALUE=DURATION:PT1H
X-Robots-Tag:noindex
X-PUBLISHED-TTL:PT1H
BEGIN:VTIMEZONE
TZID:America/New_York
BEGIN:DAYLIGHT
TZOFFSETFROM:-0500
TZOFFSETTO:-0400
TZNAME:EDT
DTSTART:20250309T070000
END:DAYLIGHT
BEGIN:STANDARD
TZOFFSETFROM:-0400
TZOFFSETTO:-0500
TZNAME:EST
DTSTART:20251102T060000
END:STANDARD
BEGIN:DAYLIGHT
TZOFFSETFROM:-0500
TZOFFSETTO:-0400
TZNAME:EDT
DTSTART:20260308T070000
END:DAYLIGHT
BEGIN:STANDARD
TZOFFSETFROM:-0400
TZOFFSETTO:-0500
TZNAME:EST
DTSTART:20261101T060000
END:STANDARD
BEGIN:DAYLIGHT
TZOFFSETFROM:-0500
TZOFFSETTO:-0400
TZNAME:EDT
DTSTART:20270314T070000
END:DAYLIGHT
BEGIN:STANDARD
TZOFFSETFROM:-0400
TZOFFSETTO:-0500
TZNAME:EST
DTSTART:20271107T060000
END:STANDARD
END:VTIMEZONE
BEGIN:VEVENT
DTSTART;TZID=America/New_York:20260302T190000
DTEND;TZID=America/New_York:20260302T200000
DTSTAMP:20260421T073720
CREATED:20260227T152831Z
LAST-MODIFIED:20260227T152831Z
UID:982-1772478000-1772481600@www.quadcityfed.com
SUMMARY:MOLINE DEMOCRATS MEETING
DESCRIPTION:MOLINE DEMOCRATS MEETING  |\n7pm  |\nEast End Bolders Club\, 4th Ave.\, Moline
URL:https://www.quadcityfed.com/event/moline-democrats-meeting-2/
END:VEVENT
BEGIN:VEVENT
DTSTART;TZID=America/New_York:20260304T173000
DTEND;TZID=America/New_York:20260304T183000
DTSTAMP:20260421T073720
CREATED:20260227T154340Z
LAST-MODIFIED:20260227T154340Z
UID:1010-1772645400-1772649000@www.quadcityfed.com
SUMMARY:QC NEXTUP MEETING
DESCRIPTION:QC NEXT UP MEETING  |\n5:30pm  |\nUFCW Hall\, 2411 W Central Park Ave.\, Davenport
URL:https://www.quadcityfed.com/event/qc-nextup-meeting-5/
END:VEVENT
BEGIN:VEVENT
DTSTART;TZID=America/New_York:20260305T183000
DTEND;TZID=America/New_York:20260305T193000
DTSTAMP:20260421T073720
CREATED:20260227T144034Z
LAST-MODIFIED:20260227T144034Z
UID:932-1772735400-1772739000@www.quadcityfed.com
SUMMARY:SCOTT COUNTY DEMOCRATIC MTG.
DESCRIPTION:SCOTT COUNTY DEMOCRATIC MTG.  |\n6:30pm @ UFCW Hall\, Davenport IA
URL:https://www.quadcityfed.com/event/scott-county-democratic-mtg/
END:VEVENT
BEGIN:VEVENT
DTSTART;TZID=America/New_York:20260307T100000
DTEND;TZID=America/New_York:20260307T140000
DTSTAMP:20260421T073720
CREATED:20260226T155844Z
LAST-MODIFIED:20260226T160102Z
UID:888-1772877600-1772892000@www.quadcityfed.com
SUMMARY:CANVASS FOR MARCUS HERBERT
DESCRIPTION:CANVASSING FOR MARCUS HERBERT\nSaturday\, March 7th &\nSaturday\, March 14th  |\n10am – 2pm (each day)  |\n9:45am arrive at the Quad City Federation of Labor Office  |\n4600 46 Avenue\, Suite #4  |\nRock Island IL 61201
URL:https://www.quadcityfed.com/event/canvass-for-marcus-herbert/
END:VEVENT
BEGIN:VEVENT
DTSTART;TZID=America/New_York:20260312T100000
DTEND;TZID=America/New_York:20260312T110000
DTSTAMP:20260421T073720
CREATED:20260227T143027Z
LAST-MODIFIED:20260227T143027Z
UID:912-1773309600-1773313200@www.quadcityfed.com
SUMMARY:QC ALLIANCE FOR RETIRED AMERICANS
DESCRIPTION:Quad Cities Alliance for Retired Americans Mtg.  |\n10am (2nd Thursday each month)  |\nMarch 12th @ Laborers 309 Hall\, Rock Island
URL:https://www.quadcityfed.com/event/qc-alliance-for-retired-americans/
END:VEVENT
BEGIN:VEVENT
DTSTART;TZID=America/New_York:20260314T100000
DTEND;TZID=America/New_York:20260314T140000
DTSTAMP:20260421T073720
CREATED:20260226T155944Z
LAST-MODIFIED:20260226T160041Z
UID:890-1773482400-1773496800@www.quadcityfed.com
SUMMARY:CANVASS FOR MARCUS HERBERT
DESCRIPTION:CANVASSING FOR MARCUS HERBERT\nSaturday\, March 7th &\nSaturday\, March 14th  |\n10am – 2pm (each day)  |\n9:45am arrive at the Quad City Federation of Labor Office  |\n4600 46 Avenue\, Suite #4  |\nRock Island IL 61201
URL:https://www.quadcityfed.com/event/canvass-for-marcus-herbert-2/
END:VEVENT
BEGIN:VEVENT
DTSTART;TZID=America/New_York:20260318T173000
DTEND;TZID=America/New_York:20260318T183000
DTSTAMP:20260421T073720
CREATED:20260227T144307Z
LAST-MODIFIED:20260227T144307Z
UID:934-1773855000-1773858600@www.quadcityfed.com
SUMMARY:RI CTY DEMOCRATIC WOMEN'S CLUB MTG.
DESCRIPTION:RI COUNTY DEMOCRATIC WOMEN’S CLUB MTG.  |\n3rd Wednesday every month  |\n5:30pm  |\nEast End Bolders Club\, 4th Ave.\, Moline IL
URL:https://www.quadcityfed.com/event/ri-cty-democratic-womens-club-mtg/
END:VEVENT
BEGIN:VEVENT
DTSTART;TZID=America/New_York:20260320T163000
DTEND;TZID=America/New_York:20260320T190000
DTSTAMP:20260421T073720
CREATED:20260226T161045Z
LAST-MODIFIED:20260226T161045Z
UID:897-1774024200-1774033200@www.quadcityfed.com
SUMMARY:8TH ANNUAL UNITY DINNER
DESCRIPTION:RI COUNTY DEMS  |  \n8TH ANNUAL UNITY DINNER  |  \nFriday\, March 20th  |\nThe Stern Center\, Rock Island  |\n4:30pm – SOCIAL  |\n5:00pm – DINNER  |\n6:00pm – PROGRAM  |\nCONTACT: 309-786-8337 for tickets & sponsorship opportunities
URL:https://www.quadcityfed.com/event/8th-annual-unity-dinner/
END:VEVENT
BEGIN:VEVENT
DTSTART;TZID=America/New_York:20260326T180000
DTEND;TZID=America/New_York:20260326T190000
DTSTAMP:20260421T073720
CREATED:20260227T151331Z
LAST-MODIFIED:20260227T151331Z
UID:960-1774548000-1774551600@www.quadcityfed.com
SUMMARY:EAST MOLINE DEMOCRATS MEETING
DESCRIPTION:EAST MOLINE DEMOCRATS MEETING  |\n6pm  |\nVFW Hall on 1st Street in East Moline
URL:https://www.quadcityfed.com/event/east-moline-democrats-meeting-2/
END:VEVENT
END:VCALENDAR