BEGIN:VCALENDAR
VERSION:2.0
PRODID:-//Quad City Federation of Labor - ECPv6.15.11//NONSGML v1.0//EN
CALSCALE:GREGORIAN
METHOD:PUBLISH
X-ORIGINAL-URL:https://www.quadcityfed.com
X-WR-CALDESC:Events for Quad City Federation of Labor
REFRESH-INTERVAL;VALUE=DURATION:PT1H
X-Robots-Tag:noindex
X-PUBLISHED-TTL:PT1H
BEGIN:VTIMEZONE
TZID:America/New_York
BEGIN:DAYLIGHT
TZOFFSETFROM:-0500
TZOFFSETTO:-0400
TZNAME:EDT
DTSTART:20250309T070000
END:DAYLIGHT
BEGIN:STANDARD
TZOFFSETFROM:-0400
TZOFFSETTO:-0500
TZNAME:EST
DTSTART:20251102T060000
END:STANDARD
BEGIN:DAYLIGHT
TZOFFSETFROM:-0500
TZOFFSETTO:-0400
TZNAME:EDT
DTSTART:20260308T070000
END:DAYLIGHT
BEGIN:STANDARD
TZOFFSETFROM:-0400
TZOFFSETTO:-0500
TZNAME:EST
DTSTART:20261101T060000
END:STANDARD
BEGIN:DAYLIGHT
TZOFFSETFROM:-0500
TZOFFSETTO:-0400
TZNAME:EDT
DTSTART:20270314T070000
END:DAYLIGHT
BEGIN:STANDARD
TZOFFSETFROM:-0400
TZOFFSETTO:-0500
TZNAME:EST
DTSTART:20271107T060000
END:STANDARD
END:VTIMEZONE
BEGIN:VEVENT
DTSTART;TZID=America/New_York:20260504T190000
DTEND;TZID=America/New_York:20260504T200000
DTSTAMP:20260421T102916
CREATED:20260227T152930Z
LAST-MODIFIED:20260227T152930Z
UID:986-1777921200-1777924800@www.quadcityfed.com
SUMMARY:MOLINE DEMOCRATS MEETING
DESCRIPTION:MOLINE DEMOCRATS MEETING  |\n7pm  |\nEast End Bolders Club\, 4th Ave.\, Moline
URL:https://www.quadcityfed.com/event/moline-democrats-meeting-4/
END:VEVENT
BEGIN:VEVENT
DTSTART;TZID=America/New_York:20260506T173000
DTEND;TZID=America/New_York:20260506T183000
DTSTAMP:20260421T102916
CREATED:20260227T154119Z
LAST-MODIFIED:20260227T154119Z
UID:1004-1778088600-1778092200@www.quadcityfed.com
SUMMARY:QC NEXTUP MEETING
DESCRIPTION:QC NEXT UP MEETING  |\n5:30pm  |\nUSW Hall\, 880 Devils Glen RD.\, Bettendorf
URL:https://www.quadcityfed.com/event/qc-nextup-meeting-2/
END:VEVENT
BEGIN:VEVENT
DTSTART;TZID=America/New_York:20260514T100000
DTEND;TZID=America/New_York:20260514T110000
DTSTAMP:20260421T102916
CREATED:20260227T143218Z
LAST-MODIFIED:20260227T143218Z
UID:916-1778752800-1778756400@www.quadcityfed.com
SUMMARY:QC ALLIANCE FOR RETIRED AMERICANS MTG.
DESCRIPTION:Quad Cities Alliance for Retired Americans Mtg.  |\n10am (2nd Thursday each month)  |\nMay 14th @ Laborers 309 Hall\, Rock Island
URL:https://www.quadcityfed.com/event/qc-alliance-for-retired-americans-mtg-2/
END:VEVENT
BEGIN:VEVENT
DTSTART;TZID=America/New_York:20260518T080000
DTEND;TZID=America/New_York:20260523T170000
DTSTAMP:20260421T102916
CREATED:20260226T160529Z
LAST-MODIFIED:20260226T160617Z
UID:894-1779091200-1779555600@www.quadcityfed.com
SUMMARY:DAY OF ACTION!
DESCRIPTION:DAY OF ACTION!\nMay 18 -23 in the cities of\nCedar Rapids\, Des Moines\, & Quad Cities  |\nMore details to follow!
URL:https://www.quadcityfed.com/event/day-of-action/
END:VEVENT
BEGIN:VEVENT
DTSTART;TZID=America/New_York:20260520T173000
DTEND;TZID=America/New_York:20260520T183000
DTSTAMP:20260421T102916
CREATED:20260227T144519Z
LAST-MODIFIED:20260227T144519Z
UID:938-1779298200-1779301800@www.quadcityfed.com
SUMMARY:RI CTY DEMOCRATIC WOMEN'S CLUB MTG.
DESCRIPTION:RI COUNTY DEMOCRATIC WOMEN’S CLUB MTG.  |\n3rd Wednesday every month  |\n5:30pm  |\nEast End Bolders Club\, 4th Ave.\, Moline IL
URL:https://www.quadcityfed.com/event/ri-cty-democratic-womens-club-mtg-3/
END:VEVENT
BEGIN:VEVENT
DTSTART;TZID=America/New_York:20260528T180000
DTEND;TZID=America/New_York:20260528T190000
DTSTAMP:20260421T102916
CREATED:20260227T151853Z
LAST-MODIFIED:20260227T151853Z
UID:964-1779991200-1779994800@www.quadcityfed.com
SUMMARY:EAST MOLINE DEMOCRATS MEETING
DESCRIPTION:EAST MOLINE DEMOCRATS MEETING  |\n6pm  |\nVFW Hall on 1st Street in East Moline
URL:https://www.quadcityfed.com/event/east-moline-democrats-meeting-4/
END:VEVENT
END:VCALENDAR