BEGIN:VCALENDAR
VERSION:2.0
PRODID:-//Quad City Federation of Labor - ECPv6.15.11//NONSGML v1.0//EN
CALSCALE:GREGORIAN
METHOD:PUBLISH
X-WR-CALNAME:Quad City Federation of Labor
X-ORIGINAL-URL:https://www.quadcityfed.com
X-WR-CALDESC:Events for Quad City Federation of Labor
REFRESH-INTERVAL;VALUE=DURATION:PT1H
X-Robots-Tag:noindex
X-PUBLISHED-TTL:PT1H
BEGIN:VTIMEZONE
TZID:America/New_York
BEGIN:DAYLIGHT
TZOFFSETFROM:-0500
TZOFFSETTO:-0400
TZNAME:EDT
DTSTART:20250309T070000
END:DAYLIGHT
BEGIN:STANDARD
TZOFFSETFROM:-0400
TZOFFSETTO:-0500
TZNAME:EST
DTSTART:20251102T060000
END:STANDARD
BEGIN:DAYLIGHT
TZOFFSETFROM:-0500
TZOFFSETTO:-0400
TZNAME:EDT
DTSTART:20260308T070000
END:DAYLIGHT
BEGIN:STANDARD
TZOFFSETFROM:-0400
TZOFFSETTO:-0500
TZNAME:EST
DTSTART:20261101T060000
END:STANDARD
BEGIN:DAYLIGHT
TZOFFSETFROM:-0500
TZOFFSETTO:-0400
TZNAME:EDT
DTSTART:20270314T070000
END:DAYLIGHT
BEGIN:STANDARD
TZOFFSETFROM:-0400
TZOFFSETTO:-0500
TZNAME:EST
DTSTART:20271107T060000
END:STANDARD
END:VTIMEZONE
BEGIN:VEVENT
DTSTART;TZID=America/New_York:20260601T190000
DTEND;TZID=America/New_York:20260601T200000
DTSTAMP:20260421T115809
CREATED:20260227T153005Z
LAST-MODIFIED:20260227T153005Z
UID:988-1780340400-1780344000@www.quadcityfed.com
SUMMARY:MOLINE DEMOCRATS MEETING
DESCRIPTION:MOLINE DEMOCRATS MEETING  |\n7pm  |\nEast End Bolders Club\, 4th Ave.\, Moline
URL:https://www.quadcityfed.com/event/moline-democrats-meeting-5/
END:VEVENT
BEGIN:VEVENT
DTSTART;TZID=America/New_York:20260603T173000
DTEND;TZID=America/New_York:20260603T183000
DTSTAMP:20260421T115809
CREATED:20260227T154414Z
LAST-MODIFIED:20260227T154414Z
UID:1012-1780507800-1780511400@www.quadcityfed.com
SUMMARY:QC NEXTUP MEETING
DESCRIPTION:QC NEXT UP MEETING  |\n5:30pm  |\nUFCW Hall\, 2411 W Central Park Ave.\, Davenport
URL:https://www.quadcityfed.com/event/qc-nextup-meeting-6/
END:VEVENT
BEGIN:VEVENT
DTSTART;TZID=America/New_York:20260611T100000
DTEND;TZID=America/New_York:20260611T110000
DTSTAMP:20260421T115809
CREATED:20260227T143311Z
LAST-MODIFIED:20260227T143311Z
UID:918-1781172000-1781175600@www.quadcityfed.com
SUMMARY:QC ALLIANCE FOR RETIRED AMERICANS MTG.
DESCRIPTION:Quad Cities Alliance for Retired Americans Mtg.  |\n10am (2nd Thursday each month)  |\nJune 11th @ Laborers 309 Hall\, Rock Island
URL:https://www.quadcityfed.com/event/qc-alliance-for-retired-americans-mtg-3/
END:VEVENT
BEGIN:VEVENT
DTSTART;TZID=America/New_York:20260617T173000
DTEND;TZID=America/New_York:20260617T183000
DTSTAMP:20260421T115809
CREATED:20260227T144555Z
LAST-MODIFIED:20260227T144555Z
UID:940-1781717400-1781721000@www.quadcityfed.com
SUMMARY:RI CTY DEMOCRATIC WOMEN'S CLUB MTG.
DESCRIPTION:RI COUNTY DEMOCRATIC WOMEN’S CLUB MTG.  |\n3rd Wednesday every month  |\n5:30pm  |\nEast End Bolders Club\, 4th Ave.\, Moline IL
URL:https://www.quadcityfed.com/event/ri-cty-democratic-womens-club-mtg-4/
END:VEVENT
BEGIN:VEVENT
DTSTART;TZID=America/New_York:20260625T180000
DTEND;TZID=America/New_York:20260625T190000
DTSTAMP:20260421T115809
CREATED:20260227T151923Z
LAST-MODIFIED:20260227T151923Z
UID:966-1782410400-1782414000@www.quadcityfed.com
SUMMARY:EAST MOLINE DEMOCRATS MEETING
DESCRIPTION:EAST MOLINE DEMOCRATS MEETING  |\n6pm  |\nVFW Hall on 1st Street in East Moline
URL:https://www.quadcityfed.com/event/east-moline-democrats-meeting-5/
END:VEVENT
END:VCALENDAR