BEGIN:VCALENDAR
VERSION:2.0
PRODID:-//Quad City Federation of Labor - ECPv6.15.11//NONSGML v1.0//EN
CALSCALE:GREGORIAN
METHOD:PUBLISH
X-ORIGINAL-URL:https://www.quadcityfed.com
X-WR-CALDESC:Events for Quad City Federation of Labor
REFRESH-INTERVAL;VALUE=DURATION:PT1H
X-Robots-Tag:noindex
X-PUBLISHED-TTL:PT1H
BEGIN:VTIMEZONE
TZID:America/New_York
BEGIN:DAYLIGHT
TZOFFSETFROM:-0500
TZOFFSETTO:-0400
TZNAME:EDT
DTSTART:20250309T070000
END:DAYLIGHT
BEGIN:STANDARD
TZOFFSETFROM:-0400
TZOFFSETTO:-0500
TZNAME:EST
DTSTART:20251102T060000
END:STANDARD
BEGIN:DAYLIGHT
TZOFFSETFROM:-0500
TZOFFSETTO:-0400
TZNAME:EDT
DTSTART:20260308T070000
END:DAYLIGHT
BEGIN:STANDARD
TZOFFSETFROM:-0400
TZOFFSETTO:-0500
TZNAME:EST
DTSTART:20261101T060000
END:STANDARD
BEGIN:DAYLIGHT
TZOFFSETFROM:-0500
TZOFFSETTO:-0400
TZNAME:EDT
DTSTART:20270314T070000
END:DAYLIGHT
BEGIN:STANDARD
TZOFFSETFROM:-0400
TZOFFSETTO:-0500
TZNAME:EST
DTSTART:20271107T060000
END:STANDARD
END:VTIMEZONE
BEGIN:VEVENT
DTSTART;TZID=America/New_York:20260803T190000
DTEND;TZID=America/New_York:20260803T200000
DTSTAMP:20260421T150912
CREATED:20260227T153115Z
LAST-MODIFIED:20260227T153115Z
UID:992-1785783600-1785787200@www.quadcityfed.com
SUMMARY:MOLINE DEMOCRATS MEETING
DESCRIPTION:MOLINE DEMOCRATS MEETING  |\n7pm  |\nEast End Bolders Club\, 4th Ave.\, Moline
URL:https://www.quadcityfed.com/event/moline-democrats-meeting-7/
END:VEVENT
BEGIN:VEVENT
DTSTART;TZID=America/New_York:20260805T173000
DTEND;TZID=America/New_York:20260805T183000
DTSTAMP:20260421T150912
CREATED:20260227T154159Z
LAST-MODIFIED:20260227T154159Z
UID:1006-1785951000-1785954600@www.quadcityfed.com
SUMMARY:QC NEXTUP MEETING
DESCRIPTION:QC NEXT UP MEETING  |\n5:30pm  |\nUSW Hall\, 880 Devils Glen RD.\, Bettendorf
URL:https://www.quadcityfed.com/event/qc-nextup-meeting-3/
END:VEVENT
BEGIN:VEVENT
DTSTART;TZID=America/New_York:20260813T100000
DTEND;TZID=America/New_York:20260813T110000
DTSTAMP:20260421T150912
CREATED:20260227T143528Z
LAST-MODIFIED:20260227T143528Z
UID:922-1786615200-1786618800@www.quadcityfed.com
SUMMARY:QC ALLIANCE FOR RETIRED AMERICANS MTG.
DESCRIPTION:Quad Cities Alliance for Retired Americans Mtg.  |\n10am (2nd Thursday each month)  |\nAugust  13th @ Laborers 309 Hall\, Rock Island
URL:https://www.quadcityfed.com/event/qc-alliance-for-retired-americans-mtg-5/
END:VEVENT
BEGIN:VEVENT
DTSTART;TZID=America/New_York:20260819T173000
DTEND;TZID=America/New_York:20260819T183000
DTSTAMP:20260421T150912
CREATED:20260227T144705Z
LAST-MODIFIED:20260227T144705Z
UID:944-1787160600-1787164200@www.quadcityfed.com
SUMMARY:RI CTY DEMOCRATIC WOMEN'S CLUB MTG.
DESCRIPTION:RI COUNTY DEMOCRATIC WOMEN’S CLUB MTG.  |\n3rd Wednesday every month  |\n5:30pm  |\nEast End Bolders Club\, 4th Ave.\, Moline IL
URL:https://www.quadcityfed.com/event/ri-cty-democratic-womens-club-mtg-6/
END:VEVENT
BEGIN:VEVENT
DTSTART;TZID=America/New_York:20260827T180000
DTEND;TZID=America/New_York:20260827T190000
DTSTAMP:20260421T150912
CREATED:20260227T152049Z
LAST-MODIFIED:20260227T152049Z
UID:970-1787853600-1787857200@www.quadcityfed.com
SUMMARY:EAST MOLINE DEMOCRATS MEETING
DESCRIPTION:EAST MOLINE DEMOCRATS MEETING  |\n6pm  |\nVFW Hall on 1st Street in East Moline
URL:https://www.quadcityfed.com/event/east-moline-democrats-meeting-7/
END:VEVENT
END:VCALENDAR