BEGIN:VCALENDAR
VERSION:2.0
PRODID:-//Quad City Federation of Labor - ECPv6.15.11//NONSGML v1.0//EN
CALSCALE:GREGORIAN
METHOD:PUBLISH
X-ORIGINAL-URL:https://www.quadcityfed.com
X-WR-CALDESC:Events for Quad City Federation of Labor
REFRESH-INTERVAL;VALUE=DURATION:PT1H
X-Robots-Tag:noindex
X-PUBLISHED-TTL:PT1H
BEGIN:VTIMEZONE
TZID:America/New_York
BEGIN:DAYLIGHT
TZOFFSETFROM:-0500
TZOFFSETTO:-0400
TZNAME:EDT
DTSTART:20250309T070000
END:DAYLIGHT
BEGIN:STANDARD
TZOFFSETFROM:-0400
TZOFFSETTO:-0500
TZNAME:EST
DTSTART:20251102T060000
END:STANDARD
BEGIN:DAYLIGHT
TZOFFSETFROM:-0500
TZOFFSETTO:-0400
TZNAME:EDT
DTSTART:20260308T070000
END:DAYLIGHT
BEGIN:STANDARD
TZOFFSETFROM:-0400
TZOFFSETTO:-0500
TZNAME:EST
DTSTART:20261101T060000
END:STANDARD
BEGIN:DAYLIGHT
TZOFFSETFROM:-0500
TZOFFSETTO:-0400
TZNAME:EDT
DTSTART:20270314T070000
END:DAYLIGHT
BEGIN:STANDARD
TZOFFSETFROM:-0400
TZOFFSETTO:-0500
TZNAME:EST
DTSTART:20271107T060000
END:STANDARD
END:VTIMEZONE
BEGIN:VEVENT
DTSTART;TZID=America/New_York:20261003T173000
DTEND;TZID=America/New_York:20261003T203000
DTSTAMP:20260421T180941
CREATED:20250606T155235Z
LAST-MODIFIED:20260226T153927Z
UID:767-1791048600-1791059400@www.quadcityfed.com
SUMMARY:AFL-CIO\, QCFL HALL OF FAME BANQUET
DESCRIPTION:AFL-CIO\, QCFL HALL OF FAME BANQUET\nSaturday\, October 3rd\n5:30pm – 8:30pm\nIsle of Capri Banquet Hall\, Bettendorf\nFor Tickets & Questions\, email:  solidarity@quadcityfed.com
URL:https://www.quadcityfed.com/event/afl-cio-qcfl-hall-of-fame-banquet/
END:VEVENT
BEGIN:VEVENT
DTSTART;TZID=America/New_York:20261005T190000
DTEND;TZID=America/New_York:20261005T200000
DTSTAMP:20260421T180941
CREATED:20260227T153253Z
LAST-MODIFIED:20260227T153253Z
UID:996-1791226800-1791230400@www.quadcityfed.com
SUMMARY:MOLINE DEMOCRATS MEETING
DESCRIPTION:MOLINE DEMOCRATS MEETING  |\n7pm  |\nEast End Bolders Club\, 4th Ave.\, Moline
URL:https://www.quadcityfed.com/event/moline-democrats-meeting-9/
END:VEVENT
BEGIN:VEVENT
DTSTART;TZID=America/New_York:20261007T173000
DTEND;TZID=America/New_York:20261007T183000
DTSTAMP:20260421T180941
CREATED:20260227T154805Z
LAST-MODIFIED:20260227T154805Z
UID:1022-1791394200-1791397800@www.quadcityfed.com
SUMMARY:QC NEXTUP MEETING
DESCRIPTION:QC NEXT UP MEETING  |\n5:30pm  |\nQC Federation of Labor office  |\n4600 46 Avenue\, Suite #4\, Rock Island
URL:https://www.quadcityfed.com/event/qc-nextup-meeting-11/
END:VEVENT
BEGIN:VEVENT
DTSTART;TZID=America/New_York:20261008T100000
DTEND;TZID=America/New_York:20261008T110000
DTSTAMP:20260421T180941
CREATED:20260227T143730Z
LAST-MODIFIED:20260227T143730Z
UID:926-1791453600-1791457200@www.quadcityfed.com
SUMMARY:QC ALLIANCE FOR RETIRED AMERICANS MTG.
DESCRIPTION:Quad Cities Alliance for Retired Americans Mtg.  |\n10am (2nd Thursday each month)  |\nOctober 8th @ Laborers 309 Hall\, Rock Island
URL:https://www.quadcityfed.com/event/qc-alliance-for-retired-americans-mtg-7/
END:VEVENT
BEGIN:VEVENT
DTSTART;TZID=America/New_York:20261021T173000
DTEND;TZID=America/New_York:20261021T183000
DTSTAMP:20260421T180941
CREATED:20260227T144809Z
LAST-MODIFIED:20260227T144809Z
UID:948-1792603800-1792607400@www.quadcityfed.com
SUMMARY:RI CTY DEMOCRATIC WOMEN'S CLUB MTG.
DESCRIPTION:RI COUNTY DEMOCRATIC WOMEN’S CLUB MTG.  |\n3rd Wednesday every month  |\n5:30pm  |\nEast End Bolders Club\, 4th Ave.\, Moline IL
URL:https://www.quadcityfed.com/event/ri-cty-democratic-womens-club-mtg-8/
END:VEVENT
BEGIN:VEVENT
DTSTART;TZID=America/New_York:20261029T180000
DTEND;TZID=America/New_York:20261029T190000
DTSTAMP:20260421T180941
CREATED:20260227T152256Z
LAST-MODIFIED:20260227T152256Z
UID:974-1793296800-1793300400@www.quadcityfed.com
SUMMARY:EAST MOLINE DEMOCRATS MEETING
DESCRIPTION:EAST MOLINE DEMOCRATS MEETING  |\n6pm  |\nVFW Hall on 1st Street in East Moline
URL:https://www.quadcityfed.com/event/east-moline-democrats-meeting-9/
END:VEVENT
END:VCALENDAR