BEGIN:VCALENDAR
VERSION:2.0
PRODID:-//Quad City Federation of Labor - ECPv6.15.11//NONSGML v1.0//EN
CALSCALE:GREGORIAN
METHOD:PUBLISH
X-WR-CALNAME:Quad City Federation of Labor
X-ORIGINAL-URL:https://www.quadcityfed.com
X-WR-CALDESC:Events for Quad City Federation of Labor
REFRESH-INTERVAL;VALUE=DURATION:PT1H
X-Robots-Tag:noindex
X-PUBLISHED-TTL:PT1H
BEGIN:VTIMEZONE
TZID:America/New_York
BEGIN:DAYLIGHT
TZOFFSETFROM:-0500
TZOFFSETTO:-0400
TZNAME:EDT
DTSTART:20250309T070000
END:DAYLIGHT
BEGIN:STANDARD
TZOFFSETFROM:-0400
TZOFFSETTO:-0500
TZNAME:EST
DTSTART:20251102T060000
END:STANDARD
BEGIN:DAYLIGHT
TZOFFSETFROM:-0500
TZOFFSETTO:-0400
TZNAME:EDT
DTSTART:20260308T070000
END:DAYLIGHT
BEGIN:STANDARD
TZOFFSETFROM:-0400
TZOFFSETTO:-0500
TZNAME:EST
DTSTART:20261101T060000
END:STANDARD
BEGIN:DAYLIGHT
TZOFFSETFROM:-0500
TZOFFSETTO:-0400
TZNAME:EDT
DTSTART:20270314T070000
END:DAYLIGHT
BEGIN:STANDARD
TZOFFSETFROM:-0400
TZOFFSETTO:-0500
TZNAME:EST
DTSTART:20271107T060000
END:STANDARD
END:VTIMEZONE
BEGIN:VEVENT
DTSTART;TZID=America/New_York:20260423T180000
DTEND;TZID=America/New_York:20260423T190000
DTSTAMP:20260421T090624
CREATED:20260227T141938Z
LAST-MODIFIED:20260227T141938Z
UID:906-1776967200-1776970800@www.quadcityfed.com
SUMMARY:RI COUNTY CONVENTION
DESCRIPTION:RI County Convention\n6pm @ Laborers 309 Hall\, Rock Island  |\nVote to elect party officials  |\nOnly elected PCs can vote
URL:https://www.quadcityfed.com/event/ri-county-convention/
END:VEVENT
BEGIN:VEVENT
DTSTART;TZID=America/New_York:20260426T040000
DTEND;TZID=America/New_York:20260426T190000
DTSTAMP:20260421T090624
CREATED:20260226T161621Z
LAST-MODIFIED:20260226T161621Z
UID:901-1777176000-1777230000@www.quadcityfed.com
SUMMARY:CC DEMS HALL OF FAME
DESCRIPTION:CLINTON COUNTY DEMS  |  \nHALL OF FAME DINNER  |\nSunday\, April 26\, 2026  |\nClinton County Fairgrounds  |\n4pm Social  |  5pm Dinner
URL:https://www.quadcityfed.com/event/cc-dems-hall-of-fame/
END:VEVENT
BEGIN:VEVENT
DTSTART;TZID=America/New_York:20260430T180000
DTEND;TZID=America/New_York:20260430T190000
DTSTAMP:20260421T090624
CREATED:20260227T151406Z
LAST-MODIFIED:20260227T151406Z
UID:962-1777572000-1777575600@www.quadcityfed.com
SUMMARY:EAST MOLINE DEMOCRATS MEETING
DESCRIPTION:EAST MOLINE DEMOCRATS MEETING  |\n6pm  |\nVFW Hall on 1st Street in East Moline
URL:https://www.quadcityfed.com/event/east-moline-democrats-meeting-3/
END:VEVENT
END:VCALENDAR